BEGIN:VCALENDAR
VERSION:2.0
PRODID:-//Edegems Harmonie Orkest - ECPv6.0.10//NONSGML v1.0//EN
CALSCALE:GREGORIAN
METHOD:PUBLISH
X-ORIGINAL-URL:https://www.eho.be
X-WR-CALDESC:Evenementen voor Edegems Harmonie Orkest
REFRESH-INTERVAL;VALUE=DURATION:PT1H
X-Robots-Tag:noindex
X-PUBLISHED-TTL:PT1H
BEGIN:VTIMEZONE
TZID:Europe/Brussels
BEGIN:DAYLIGHT
TZOFFSETFROM:+0100
TZOFFSETTO:+0200
TZNAME:CEST
DTSTART:20240331T010000
END:DAYLIGHT
BEGIN:STANDARD
TZOFFSETFROM:+0200
TZOFFSETTO:+0100
TZNAME:CET
DTSTART:20241027T010000
END:STANDARD
END:VTIMEZONE
BEGIN:VEVENT
DTSTART;TZID=Europe/Brussels:20240623T120000
DTEND;TZID=Europe/Brussels:20240623T170000
DTSTAMP:20260420T012019
CREATED:20240601T174225Z
LAST-MODIFIED:20240601T174227Z
UID:4993-1719144000-1719162000@www.eho.be
SUMMARY:BBQ
DESCRIPTION:De jaarlijkse BBQ is weer daar! (J)EHO’ers\, vrienden en familie zijn welkom in ons lokaal om op de middag van een heerlijke BBQ te smullen. Vanaf 12u zijn de deuren geopend. \nBij de bestelling kunnen er verschillende combinaties van (veggie) vleesjes gekozen worden. Aperitiefje en salad bar zijn in de prijs inbegrepen.Inschrijven kan tot woensdag 19/06 via deze link. \n 
URL:https://www.eho.be/event/bbq-3/
LOCATION:Repetitielokaal EHO\, Jacob de Roorestraat 4\, Edegem\, België
ATTACH;FMTTYPE=image/jpeg:https://www.eho.be/wp-content/uploads/2018/12/BBQ.jpeg
ORGANIZER;CN="Edegems%20HarmonieOrkest":MAILTO:info@eho.be
END:VEVENT
END:VCALENDAR