BEGIN:VCALENDAR
VERSION:2.0
PRODID:-//Edegems Harmonie Orkest - ECPv6.0.10//NONSGML v1.0//EN
CALSCALE:GREGORIAN
METHOD:PUBLISH
X-WR-CALNAME:Edegems Harmonie Orkest
X-ORIGINAL-URL:https://www.eho.be
X-WR-CALDESC:Evenementen voor Edegems Harmonie Orkest
REFRESH-INTERVAL;VALUE=DURATION:PT1H
X-Robots-Tag:noindex
X-PUBLISHED-TTL:PT1H
BEGIN:VTIMEZONE
TZID:Europe/Brussels
BEGIN:DAYLIGHT
TZOFFSETFROM:+0100
TZOFFSETTO:+0200
TZNAME:CEST
DTSTART:20230326T010000
END:DAYLIGHT
BEGIN:STANDARD
TZOFFSETFROM:+0200
TZOFFSETTO:+0100
TZNAME:CET
DTSTART:20231029T010000
END:STANDARD
END:VTIMEZONE
BEGIN:VEVENT
DTSTART;TZID=Europe/Brussels:20230430T200000
DTEND;TZID=Europe/Brussels:20230430T230000
DTSTAMP:20260420T233810
CREATED:20211120T143706Z
LAST-MODIFIED:20230428T214950Z
UID:5371-1682884800-1682895600@www.eho.be
SUMMARY:Jaarconcert - UITVERKOCHT
DESCRIPTION:EHO bestaat 120 jaar en daar hoort een feestelijk concert bij. Met muziek van Gershwin en Williams\, en uit Queen Symphonic of Miss Saigon zitten de muzikanten en u op het puntje van de stoel. Als je kunt blijven zitten tenminste\, want soms zal het swingen! \n\n\n\nZondag 30 april om 20 uurDeuren: 19u30 \n\n\n\nOude Jezuïetenkerk in LierGasthuisvest 50\, Lier \n\n\n\nTickets zijn hier te verkrijgen.Volwassenen: 15 euroJongeren (-18): 10 euro \n\n\n\nKan je er niet bij zijn\, maar wil je EHO wel graag een financieel duwtje in de rug geven? Dat kan door een steunticket aan te kopen.
URL:https://www.eho.be/event/jaarconcert-3/
LOCATION:Jezuïetenkerk Lier\, Berlaarsestraat 12\, Lier\, 2500\, België
ATTACH;FMTTYPE=image/jpeg:https://www.eho.be/wp-content/uploads/2023/02/EHO_Savethedate_30april_compressed_page-0001.jpg
ORGANIZER;CN="Edegems%20HarmonieOrkest":MAILTO:info@eho.be
END:VEVENT
END:VCALENDAR