BEGIN:VCALENDAR
VERSION:2.0
PRODID:-//Edegems Harmonie Orkest - ECPv6.0.10//NONSGML v1.0//EN
CALSCALE:GREGORIAN
METHOD:PUBLISH
X-WR-CALNAME:Edegems Harmonie Orkest
X-ORIGINAL-URL:https://www.eho.be
X-WR-CALDESC:Evenementen voor Edegems Harmonie Orkest
REFRESH-INTERVAL;VALUE=DURATION:PT1H
X-Robots-Tag:noindex
X-PUBLISHED-TTL:PT1H
BEGIN:VTIMEZONE
TZID:Europe/Brussels
BEGIN:DAYLIGHT
TZOFFSETFROM:+0100
TZOFFSETTO:+0200
TZNAME:CEST
DTSTART:20210328T010000
END:DAYLIGHT
BEGIN:STANDARD
TZOFFSETFROM:+0200
TZOFFSETTO:+0100
TZNAME:CET
DTSTART:20211031T010000
END:STANDARD
END:VTIMEZONE
BEGIN:VEVENT
DTSTART;TZID=Europe/Brussels:20211017T133000
DTEND;TZID=Europe/Brussels:20211017T173000
DTSTAMP:20260424T002249
CREATED:20200208T124230Z
LAST-MODIFIED:20230312T190417Z
UID:5228-1634477400-1634491800@www.eho.be
SUMMARY:Vertelconcert
DESCRIPTION:De bij\, de harp het muisje en de kakkerlak. \nVerovert Jack het hart van de mooiste prinses van Ierland? Tijdens het vertelconcert kom je het te weten ! \nHet verhaal begint wanneer Jacks moeder hem opdraagt een varken te verkopen. Hij komt echter thuis zonder geld\, maar wel met een bij. Een week later gebeurt hetzelfde\, maar deze keer brengt Jack een harp mee. Daarna komt hij terug met een muisje en later met een kakkerlak. Zijn moeder is woedend. Je zou voor minder natuurlijk… \nWe vertellen dit verhaal graag aan zowel kinderen vanaf 4 jaar als aan liefhebbers van een goed verhaal. Het Edegems HarmonieOrkest zorgt voor een passende muzikale sfeer. \nPraktisch? Twee concerten\, om 13u30 en 15u30 @ Hangar 27 \nTickets? Klik hier
URL:https://www.eho.be/event/muzikaal-sprookje-2/
LOCATION:Hangar 27\, Parklaan 136\, Edegem\, 2650\, België
ATTACH;FMTTYPE=image/jpeg:https://www.eho.be/wp-content/uploads/2020/02/poster-scaled.jpg
ORGANIZER;CN="Edegems%20HarmonieOrkest":MAILTO:info@eho.be
END:VEVENT
END:VCALENDAR