BEGIN:VCALENDAR
VERSION:2.0
PRODID:-//Edegems Harmonie Orkest - ECPv6.0.10//NONSGML v1.0//EN
CALSCALE:GREGORIAN
METHOD:PUBLISH
X-ORIGINAL-URL:https://www.eho.be
X-WR-CALDESC:Evenementen voor Edegems Harmonie Orkest
REFRESH-INTERVAL;VALUE=DURATION:PT1H
X-Robots-Tag:noindex
X-PUBLISHED-TTL:PT1H
BEGIN:VTIMEZONE
TZID:Europe/Brussels
BEGIN:DAYLIGHT
TZOFFSETFROM:+0100
TZOFFSETTO:+0200
TZNAME:CEST
DTSTART:20190331T010000
END:DAYLIGHT
BEGIN:STANDARD
TZOFFSETFROM:+0200
TZOFFSETTO:+0100
TZNAME:CET
DTSTART:20191027T010000
END:STANDARD
END:VTIMEZONE
BEGIN:VEVENT
DTSTART;TZID=Europe/Brussels:20191124T100000
DTEND;TZID=Europe/Brussels:20191124T120000
DTSTAMP:20260425T142233
CREATED:20190821T123606Z
LAST-MODIFIED:20230312T190215Z
UID:5136-1574589600-1574596800@www.eho.be
SUMMARY:Sint-Cecilia
DESCRIPTION:Zoals elk jaar zetten we onze muzikanten en hun familie graag in de bloemetjes door te brunchen in het lokaal. Schuif gerust mee aan\, maar vergeet je niet in te schrijven ! Klik hier
URL:https://www.eho.be/event/sint-cecilia/
LOCATION:Repetitielokaal EHO\, Jacob de Roorestraat 4\, Edegem\, België
ATTACH;FMTTYPE=image/jpeg:https://www.eho.be/wp-content/uploads/2018/03/ontbijt-900x500-e1521299729461.jpg
ORGANIZER;CN="Edegems%20HarmonieOrkest":MAILTO:info@eho.be
END:VEVENT
END:VCALENDAR