BEGIN:VCALENDAR
VERSION:2.0
PRODID:-//Edegems Harmonie Orkest - ECPv6.0.10//NONSGML v1.0//EN
CALSCALE:GREGORIAN
METHOD:PUBLISH
X-ORIGINAL-URL:https://www.eho.be
X-WR-CALDESC:Evenementen voor Edegems Harmonie Orkest
REFRESH-INTERVAL;VALUE=DURATION:PT1H
X-Robots-Tag:noindex
X-PUBLISHED-TTL:PT1H
BEGIN:VTIMEZONE
TZID:Europe/Brussels
BEGIN:DAYLIGHT
TZOFFSETFROM:+0100
TZOFFSETTO:+0200
TZNAME:CEST
DTSTART:20190331T010000
END:DAYLIGHT
BEGIN:STANDARD
TZOFFSETFROM:+0200
TZOFFSETTO:+0100
TZNAME:CET
DTSTART:20191027T010000
END:STANDARD
END:VTIMEZONE
BEGIN:VEVENT
DTSTART;TZID=Europe/Brussels:20191005T100000
DTEND;TZID=Europe/Brussels:20191005T170000
DTSTAMP:20260425T155019
CREATED:20190821T122944Z
LAST-MODIFIED:20190821T125046Z
UID:5131-1570269600-1570294800@www.eho.be
SUMMARY:Spelen met (J)EHO
DESCRIPTION:Op zaterdag 5 oktober organiseert EHO een dag vol animatie voor jong en oud\, voor klein en groot.\nWe gaan de fort V challenge aan\, eten ons buik vol met wraps en trekken naar het fort om te lasershooten. Maar ook voor de allerkleinsten worden er spelletjes voorzien.\nWil je er ook bij zijn? Schrijf je dan via hier  in ! \n \n 
URL:https://www.eho.be/event/spelen-met-jeho/
LOCATION:Repetitielokaal EHO\, Jacob de Roorestraat 4\, Edegem\, België
ATTACH;FMTTYPE=image/jpeg:https://www.eho.be/wp-content/uploads/2019/08/familiedag.jpg
ORGANIZER;CN="Edegems%20HarmonieOrkest":MAILTO:info@eho.be
END:VEVENT
BEGIN:VEVENT
DTSTART;TZID=Europe/Brussels:20191019T150000
DTEND;TZID=Europe/Brussels:20191019T160000
DTSTAMP:20260425T155019
CREATED:20190821T123359Z
LAST-MODIFIED:20190821T123359Z
UID:5134-1571497200-1571500800@www.eho.be
SUMMARY:JEHO @ Immaculata
DESCRIPTION:JEHO speelt in de refter van het woonzorgcentrum bekende liedjes en minder bekende deuntjes. Wie wil kan zeker eens komen kijken.
URL:https://www.eho.be/event/jeho-immaculata/
LOCATION:WZC Immaculata\, Oude Godstraat 110\, Edegem\, 2650\, België
ATTACH;FMTTYPE=image/jpeg:https://www.eho.be/wp-content/uploads/2016/08/animaatjes-dirigent-27915.jpg
ORGANIZER;CN="Jeugd%20Edegems%20HarmonieOrkest":MAILTO:jeugd@eho.be
END:VEVENT
END:VCALENDAR