BEGIN:VCALENDAR
VERSION:2.0
PRODID:-//Edegems Harmonie Orkest - ECPv6.0.10//NONSGML v1.0//EN
CALSCALE:GREGORIAN
METHOD:PUBLISH
X-WR-CALNAME:Edegems Harmonie Orkest
X-ORIGINAL-URL:https://www.eho.be
X-WR-CALDESC:Evenementen voor Edegems Harmonie Orkest
REFRESH-INTERVAL;VALUE=DURATION:PT1H
X-Robots-Tag:noindex
X-PUBLISHED-TTL:PT1H
BEGIN:VTIMEZONE
TZID:Europe/Brussels
BEGIN:DAYLIGHT
TZOFFSETFROM:+0100
TZOFFSETTO:+0200
TZNAME:CEST
DTSTART:20190331T010000
END:DAYLIGHT
BEGIN:STANDARD
TZOFFSETFROM:+0200
TZOFFSETTO:+0100
TZNAME:CET
DTSTART:20191027T010000
END:STANDARD
END:VTIMEZONE
BEGIN:VEVENT
DTSTART;TZID=Europe/Brussels:20190610T100000
DTEND;TZID=Europe/Brussels:20190610T110000
DTSTAMP:20260425T215959
CREATED:20181222T131447Z
LAST-MODIFIED:20181222T131447Z
UID:4995-1560160800-1560164400@www.eho.be
SUMMARY:JEHO op de schuttersmis
DESCRIPTION:Naar jaarlijkse gewoonte luistert JEHO de schuttermis op.
URL:https://www.eho.be/event/jeho-op-de-schuttersmis/
ATTACH;FMTTYPE=image/jpeg:https://www.eho.be/wp-content/uploads/2016/08/animaatjes-dirigent-27915.jpg
END:VEVENT
END:VCALENDAR