BEGIN:VCALENDAR
VERSION:2.0
PRODID:-//Edegems Harmonie Orkest - ECPv6.0.10//NONSGML v1.0//EN
CALSCALE:GREGORIAN
METHOD:PUBLISH
X-WR-CALNAME:Edegems Harmonie Orkest
X-ORIGINAL-URL:https://www.eho.be
X-WR-CALDESC:Evenementen voor Edegems Harmonie Orkest
REFRESH-INTERVAL;VALUE=DURATION:PT1H
X-Robots-Tag:noindex
X-PUBLISHED-TTL:PT1H
BEGIN:VTIMEZONE
TZID:Europe/Brussels
BEGIN:DAYLIGHT
TZOFFSETFROM:+0100
TZOFFSETTO:+0200
TZNAME:CEST
DTSTART:20240331T010000
END:DAYLIGHT
BEGIN:STANDARD
TZOFFSETFROM:+0200
TZOFFSETTO:+0100
TZNAME:CET
DTSTART:20241027T010000
END:STANDARD
END:VTIMEZONE
BEGIN:VEVENT
DTSTART;TZID=Europe/Brussels:20241116T180000
DTEND;TZID=Europe/Brussels:20241116T210000
DTSTAMP:20260419T185003
CREATED:20241015T201950Z
LAST-MODIFIED:20241112T133232Z
UID:6211-1731780000-1731790800@www.eho.be
SUMMARY:Haunted Harmony
DESCRIPTION:Bereid je voor op een avond vol horror\, mysterie en muzikale magie!\n\n\n\nGeniet tijdens het concert van aangepaste hapjes die perfect passen bij de griezelige sfeer. \n\n\n\nKom samen met vrienden en/of familie en beleef een onvergetelijke avond vol angstaanjagende muziek en heerlijke lekkernijen! \n\n\n\nDit concert werken we met genummerde tafels: indien jullie graag samen willen bibberen aan dezelfde tafel reserveer dan jullie tickets samen en kies allen voor dezelfde formule (met of zonder hapjes). \n\n\n\n(Mail info@eho.be indien er achteraf toch bijkomende tickets worden geboekt voor dezelfde tafel) \n\n\n\n*** Omwille van organisatorische redenen worden op de dag van het concert geen wissels van tafels toegestaan *** \n\n\n\n*** Hapjes Tickets kunnen enkel aangekocht worden tem 12 november 12u *** \n\n\n\n \n\n\n\nHaunted Harmony & Hapjes: 30 euroHaunted Harmony & Veggie Hapjes: 30 euroHaunted Harmony: 15 euro \n\n\n\nTickets zijn via deze link te verkrijgen.Deuren: 17u30Concert: 18u-20u
URL:https://www.eho.be/event/haunted-harmony/
LOCATION:Hangar 27\, Parklaan 136\, Edegem\, 2650\, België
ATTACH;FMTTYPE=image/jpeg:https://www.eho.be/wp-content/uploads/2023/10/Haunted-Harmony-A6_page-0001.jpg
END:VEVENT
END:VCALENDAR