BEGIN:VCALENDAR
VERSION:2.0
PRODID:-//Edegems Harmonie Orkest - ECPv6.0.10//NONSGML v1.0//EN
CALSCALE:GREGORIAN
METHOD:PUBLISH
X-WR-CALNAME:Edegems Harmonie Orkest
X-ORIGINAL-URL:https://www.eho.be
X-WR-CALDESC:Evenementen voor Edegems Harmonie Orkest
REFRESH-INTERVAL;VALUE=DURATION:PT1H
X-Robots-Tag:noindex
X-PUBLISHED-TTL:PT1H
BEGIN:VTIMEZONE
TZID:Europe/Brussels
BEGIN:DAYLIGHT
TZOFFSETFROM:+0100
TZOFFSETTO:+0200
TZNAME:CEST
DTSTART:20230326T010000
END:DAYLIGHT
BEGIN:STANDARD
TZOFFSETFROM:+0200
TZOFFSETTO:+0100
TZNAME:CET
DTSTART:20231029T010000
END:STANDARD
END:VTIMEZONE
BEGIN:VEVENT
DTSTART;TZID=Europe/Brussels:20230513T173000
DTEND;TZID=Europe/Brussels:20230513T190000
DTSTAMP:20260420T233811
CREATED:20220320T133959Z
LAST-MODIFIED:20230507T160705Z
UID:5404-1683999000-1684004400@www.eho.be
SUMMARY:Open repetitie JEHO
DESCRIPTION:Is spelen in een orkest iets voor jou? Kom eens testen en de sfeer opsnuiven tijdens een JEHO repetitie! Hout- en koperblazers\, slagwerk\, cello en contrabas en basgitaar spelers van onder de 16 jaar oud zijn welkom.
URL:https://www.eho.be/event/open-repetitie-jeho-3/
LOCATION:Repetitielokaal EHO\, Jacob de Roorestraat 4\, Edegem\, België
ATTACH;FMTTYPE=image/jpeg:https://www.eho.be/wp-content/uploads/2022/03/WhatsApp-Image-2023-05-07-at-17.50.59.jpeg
END:VEVENT
END:VCALENDAR