BEGIN:VCALENDAR
VERSION:2.0
PRODID:-//Edegems Harmonie Orkest - ECPv6.0.10//NONSGML v1.0//EN
CALSCALE:GREGORIAN
METHOD:PUBLISH
X-ORIGINAL-URL:https://www.eho.be
X-WR-CALDESC:Evenementen voor Edegems Harmonie Orkest
REFRESH-INTERVAL;VALUE=DURATION:PT1H
X-Robots-Tag:noindex
X-PUBLISHED-TTL:PT1H
BEGIN:VTIMEZONE
TZID:Europe/Brussels
BEGIN:DAYLIGHT
TZOFFSETFROM:+0100
TZOFFSETTO:+0200
TZNAME:CEST
DTSTART:20230326T010000
END:DAYLIGHT
BEGIN:STANDARD
TZOFFSETFROM:+0200
TZOFFSETTO:+0100
TZNAME:CET
DTSTART:20231029T010000
END:STANDARD
END:VTIMEZONE
BEGIN:VEVENT
DTSTART;TZID=Europe/Brussels:20230205T133000
DTEND;TZID=Europe/Brussels:20230205T173000
DTSTAMP:20260421T050221
CREATED:20230112T203345Z
LAST-MODIFIED:20230312T191004Z
UID:5496-1675603800-1675618200@www.eho.be
SUMMARY:Tijl\, verhaal van een middeleeuwse schelm
DESCRIPTION:Tijl is een deugniet die iedereen voor de gek houdt met zijn streken. Niemand is veilig voor deze schelm en zijn kattenkwaad. Als kleine jongen op school\, als schoenverkoper\, bakkersknecht of koorddanser… neemt hij iedereen beet. \n\n\n\nKom luisteren. Dan weet je hoe Tijl dat klaarspeelt. En ontdek of jij ook een beetje Tijl bent. Of zou willen zijn. \n\n\n\nKristine Marteleur vertelt al haar hele leven verhalen voor jong en oud. Ze neemt je mee in dit Middeleeuwse verhaal vol fratsen van Tijl. Het Edegems HarmonieOrkest zorgt live voor de passende muzikale sfeer\, onder meer op basis van Till Uilenspiegel van Richard Strauss. \n\n\n\nTickets: via deze link beschikbaar \n\n\n\nVoostellingen:5/02 13u305/02 15u30 \n\n\n\nLeeftijd: 6 jaar en ouder \n\n\n\nPrijs:-12 jaar 5 euro+12 jaar 10 euro-3 jaar gratis \n\n\n\nLocatie:Zaal De NachtegaalJacob de Roorestraat 4\, 2650 Edegem
URL:https://www.eho.be/event/tijl-verhaal-van-een-middeleeuwse-schelm/
LOCATION:Accordeonvereniging De Nachtegaal\, Jacob De Roorestraat \, Edegem\, 2650\, België
ATTACH;FMTTYPE=image/jpeg:https://www.eho.be/wp-content/uploads/2023/01/Tijl-scaled.jpg
ORGANIZER;CN="Edegems%20HarmonieOrkest":MAILTO:info@eho.be
END:VEVENT
END:VCALENDAR