BEGIN:VCALENDAR
VERSION:2.0
PRODID:-//Edegems Harmonie Orkest - ECPv6.0.10//NONSGML v1.0//EN
CALSCALE:GREGORIAN
METHOD:PUBLISH
X-WR-CALNAME:Edegems Harmonie Orkest
X-ORIGINAL-URL:https://www.eho.be
X-WR-CALDESC:Evenementen voor Edegems Harmonie Orkest
REFRESH-INTERVAL;VALUE=DURATION:PT1H
X-Robots-Tag:noindex
X-PUBLISHED-TTL:PT1H
BEGIN:VTIMEZONE
TZID:Europe/Brussels
BEGIN:DAYLIGHT
TZOFFSETFROM:+0100
TZOFFSETTO:+0200
TZNAME:CEST
DTSTART:20190331T010000
END:DAYLIGHT
BEGIN:STANDARD
TZOFFSETFROM:+0200
TZOFFSETTO:+0100
TZNAME:CET
DTSTART:20191027T010000
END:STANDARD
END:VTIMEZONE
BEGIN:VEVENT
DTSTART;TZID=Europe/Brussels:20191201T133000
DTEND;TZID=Europe/Brussels:20191201T153000
DTSTAMP:20260425T142046
CREATED:20190324T183832Z
LAST-MODIFIED:20230312T190417Z
UID:5035-1575207000-1575214200@www.eho.be
SUMMARY:Vertelconcert
DESCRIPTION:Het verhaal van Kleine Moek\, een slimme jongen met betoverde reuzegrote pantoffels en een magische stok. Daarmee krijgt vertelster Kristine Marteleur heel Hangar 27 op het puntje van de stoel. Spannend en grappig. Muzikaal ook\, want het Edegems HarmonieOrkest speelt tijdens het verhaal live muziek. \nBestel je tickets HIER  \n 
URL:https://www.eho.be/event/vertelconcert/
LOCATION:Hangar 27\, Parklaan 136\, Edegem\, 2650\, België
ATTACH;FMTTYPE=image/jpeg:https://www.eho.be/wp-content/uploads/2019/03/KleineMoek.jpg
ORGANIZER;CN="Edegems%20HarmonieOrkest":MAILTO:info@eho.be
END:VEVENT
END:VCALENDAR