BEGIN:VCALENDAR
VERSION:2.0
PRODID:-//Edegems Harmonie Orkest - ECPv6.0.10//NONSGML v1.0//EN
CALSCALE:GREGORIAN
METHOD:PUBLISH
X-WR-CALNAME:Edegems Harmonie Orkest
X-ORIGINAL-URL:https://www.eho.be
X-WR-CALDESC:Evenementen voor Edegems Harmonie Orkest
REFRESH-INTERVAL;VALUE=DURATION:PT1H
X-Robots-Tag:noindex
X-PUBLISHED-TTL:PT1H
BEGIN:VTIMEZONE
TZID:Europe/Brussels
BEGIN:DAYLIGHT
TZOFFSETFROM:+0100
TZOFFSETTO:+0200
TZNAME:CEST
DTSTART:20190331T010000
END:DAYLIGHT
BEGIN:STANDARD
TZOFFSETFROM:+0200
TZOFFSETTO:+0100
TZNAME:CET
DTSTART:20191027T010000
END:STANDARD
END:VTIMEZONE
BEGIN:VEVENT
DTSTART;TZID=Europe/Brussels:20190324T080000
DTEND;TZID=Europe/Brussels:20190324T110000
DTSTAMP:20260426T040318
CREATED:20181222T131057Z
LAST-MODIFIED:20190202T120011Z
UID:4991-1553414400-1553425200@www.eho.be
SUMMARY:Ontbijtmanden
DESCRIPTION:
URL:https://www.eho.be/event/ontbijtmanden-2/
ATTACH;FMTTYPE=image/jpeg:https://www.eho.be/wp-content/uploads/2018/03/ontbijt-900x500-e1521299729461.jpg
ORGANIZER;CN="Edegems%20HarmonieOrkest":MAILTO:info@eho.be
END:VEVENT
END:VCALENDAR