BEGIN:VCALENDAR
VERSION:2.0
PRODID:-//Edegems Harmonie Orkest - ECPv6.0.10//NONSGML v1.0//EN
CALSCALE:GREGORIAN
METHOD:PUBLISH
X-ORIGINAL-URL:https://www.eho.be
X-WR-CALDESC:Evenementen voor Edegems Harmonie Orkest
REFRESH-INTERVAL;VALUE=DURATION:PT1H
X-Robots-Tag:noindex
X-PUBLISHED-TTL:PT1H
BEGIN:VTIMEZONE
TZID:Europe/Brussels
BEGIN:DAYLIGHT
TZOFFSETFROM:+0100
TZOFFSETTO:+0200
TZNAME:CEST
DTSTART:20190331T010000
END:DAYLIGHT
BEGIN:STANDARD
TZOFFSETFROM:+0200
TZOFFSETTO:+0100
TZNAME:CET
DTSTART:20191027T010000
END:STANDARD
END:VTIMEZONE
BEGIN:VEVENT
DTSTART;TZID=Europe/Brussels:20190203T100000
DTEND;TZID=Europe/Brussels:20190203T130000
DTSTAMP:20260426T054152
CREATED:20171203T151732Z
LAST-MODIFIED:20230312T190310Z
UID:4784-1549188000-1549198800@www.eho.be
SUMMARY:Brunchconcert JEHO
DESCRIPTION:Inschrijven via deze link
URL:https://www.eho.be/event/brunchconcert-jeho-3/
LOCATION:Hangar 27\, Parklaan 136\, Edegem\, 2650\, België
ATTACH;FMTTYPE=image/jpeg:https://www.eho.be/wp-content/uploads/2018/12/2018brunchconcert.jpg
ORGANIZER;CN="Jeugd%20Edegems%20HarmonieOrkest":MAILTO:jeugd@eho.be
END:VEVENT
END:VCALENDAR